BEGIN:VCALENDAR
VERSION:2.0
PRODID:icalendar-ruby
CALSCALE:GREGORIAN
METHOD:PUBLISH
BEGIN:VEVENT
DTSTAMP:20260421T042506Z
UID:11-151997@respondministries.com
DTSTART:20260916T233000Z
DTEND:20260917T003000Z
CLASS:PUBLIC
CREATED:20260420T195201
DESCRIPTION:Todos los miércoles tenemos un grupo de Jovenes donde hablamos
  de temas relevantes a luz de la palabra de Dios
LAST-MODIFIED:20260420T195201
LOCATION:
SUMMARY:Grupo de Jovenes
URL;VALUE=URI:https://respondministries.com/events/grupo-de-jovenes--11/202
 6-09-16
ATTACH;FILENAME=tempImagej6bOBx.jpg;FMTTYPE=image/jpeg:https://dq5pwpg1q8ru
 0.cloudfront.net/2024/10/17/02/56/28/3c1eba78-b6d2-4324-a6fd-860058427cb4/
 tempImagej6bOBx.jpg
ATTACH;FILENAME=tempImageOkC239.jpg;FMTTYPE=image/jpeg:https://dq5pwpg1q8ru
 0.cloudfront.net/2024/10/17/02/56/28/7455222b-22af-4211-9799-786d038cde4b/
 tempImageOkC239.jpg
ATTACH;FILENAME=tempImagehqYQ1c.jpg;FMTTYPE=image/jpeg:https://dq5pwpg1q8ru
 0.cloudfront.net/2024/10/17/02/56/29/79e118c8-e343-441b-a779-820a29eb23ea/
 tempImagehqYQ1c.jpg
ATTACH;FILENAME=IMG_9836.jpeg;FMTTYPE=image/jpeg:https://dq5pwpg1q8ru0.clou
 dfront.net/2025/11/14/21/00/48/84a620ed-4938-4037-a997-b994b7afd14a/IMG_98
 36.jpeg
ATTACH;FILENAME=689c985d-8977-4cc0-81af-7a8eea926ad3.jpeg;FMTTYPE=image/jpe
 g:https://dq5pwpg1q8ru0.cloudfront.net/2025/11/14/21/00/49/64cf50e2-c8ca-4
 d29-84f4-883bce2655fc/689c985d-8977-4cc0-81af-7a8eea926ad3.jpeg
ATTACH;FILENAME=IMG_8073.jpeg;FMTTYPE=image/jpeg:https://dq5pwpg1q8ru0.clou
 dfront.net/2025/11/14/21/00/49/cd951676-f9a9-47f4-93b6-84689cc5e093/IMG_80
 73.jpeg
ATTACH;FILENAME=IMG_7998.jpeg;FMTTYPE=image/jpeg:https://dq5pwpg1q8ru0.clou
 dfront.net/2025/11/14/21/00/49/dbb3b00f-07fb-4dac-a6a8-2e0a8061a126/IMG_79
 98.jpeg
END:VEVENT
END:VCALENDAR
